BEGIN:VCALENDAR
VERSION:2.0
PRODID:-//Go Jen Go - ECPv6.15.20//NONSGML v1.0//EN
CALSCALE:GREGORIAN
METHOD:PUBLISH
X-ORIGINAL-URL:https://gojengo.org
X-WR-CALDESC:Events for Go Jen Go
REFRESH-INTERVAL;VALUE=DURATION:PT1H
X-Robots-Tag:noindex
X-PUBLISHED-TTL:PT1H
BEGIN:VTIMEZONE
TZID:UTC
BEGIN:STANDARD
TZOFFSETFROM:+0000
TZOFFSETTO:+0000
TZNAME:UTC
DTSTART:20230101T000000
END:STANDARD
END:VTIMEZONE
BEGIN:VEVENT
DTSTART;TZID=UTC:20241010T180000
DTEND;TZID=UTC:20241010T200000
DTSTAMP:20260421T053233
CREATED:20240917T171503Z
LAST-MODIFIED:20240917T171503Z
UID:6074-1728583200-1728590400@gojengo.org
SUMMARY:VB Gives Back!
DESCRIPTION:We are excited for the Veronica Beard “VB Gives Back” shopping experience hosted by Leslie Ligon & Shawna Dye Culik on October 10!\nVeronica Beard will donate 15% of event proceeds to Go Jen Go. Join us for some shopping fun and refreshments from 6 – 8 PM. \nKindly RSVP to CharlotteRSVP@veronicabeard.com.
URL:https://gojengo.org/event/vb-gives-back/
LOCATION:Veronica Beard\, 6800 Phillips Place Court\, Charlotte\, NC
ATTACH;FMTTYPE=image/jpeg:https://gojengo.org/wp-content/uploads/2024/09/VB-Gives-Back-1.jpeg
END:VEVENT
END:VCALENDAR