BEGIN:VCALENDAR
VERSION:2.0
PRODID:-//Go Jen Go - ECPv6.15.20//NONSGML v1.0//EN
CALSCALE:GREGORIAN
METHOD:PUBLISH
X-ORIGINAL-URL:https://gojengo.org
X-WR-CALDESC:Events for Go Jen Go
REFRESH-INTERVAL;VALUE=DURATION:PT1H
X-Robots-Tag:noindex
X-PUBLISHED-TTL:PT1H
BEGIN:VTIMEZONE
TZID:UTC
BEGIN:STANDARD
TZOFFSETFROM:+0000
TZOFFSETTO:+0000
TZNAME:UTC
DTSTART:20230101T000000
END:STANDARD
END:VTIMEZONE
BEGIN:VEVENT
DTSTART;TZID=UTC:20241012T100000
DTEND;TZID=UTC:20241012T160000
DTSTAMP:20260421T053327
CREATED:20240827T162043Z
LAST-MODIFIED:20240827T162139Z
UID:5680-1728727200-1728748800@gojengo.org
SUMMARY:Horse Lovers Day
DESCRIPTION:Horse Lovers Day is an annual event held at Leatherman Lane in Concord\, NC. The private horse boarding facility is opened up to the public to share the love of horses with the community\, promote local business\, and raise funds for Go Jen Go. Come enjoy horse and pony rides\, multiple food trucks\, numerous vendors\, shopping\, live music\, and lots of family fun. \nPurchase Tickets HERE.
URL:https://gojengo.org/event/horse-lovers-day/
LOCATION:Leatherman Lane\, 9101 Overcash Road\, Concord\, NC
ATTACH;FMTTYPE=image/jpeg:https://gojengo.org/wp-content/uploads/2024/08/Horse-Lovers-Day.jpg
END:VEVENT
END:VCALENDAR