BEGIN:VCALENDAR
VERSION:2.0
PRODID:-//Go Jen Go - ECPv6.15.20//NONSGML v1.0//EN
CALSCALE:GREGORIAN
METHOD:PUBLISH
X-ORIGINAL-URL:https://gojengo.org
X-WR-CALDESC:Events for Go Jen Go
REFRESH-INTERVAL;VALUE=DURATION:PT1H
X-Robots-Tag:noindex
X-PUBLISHED-TTL:PT1H
BEGIN:VTIMEZONE
TZID:America/New_York
BEGIN:DAYLIGHT
TZOFFSETFROM:-0500
TZOFFSETTO:-0400
TZNAME:EDT
DTSTART:20240310T070000
END:DAYLIGHT
BEGIN:STANDARD
TZOFFSETFROM:-0400
TZOFFSETTO:-0500
TZNAME:EST
DTSTART:20241103T060000
END:STANDARD
BEGIN:DAYLIGHT
TZOFFSETFROM:-0500
TZOFFSETTO:-0400
TZNAME:EDT
DTSTART:20250309T070000
END:DAYLIGHT
BEGIN:STANDARD
TZOFFSETFROM:-0400
TZOFFSETTO:-0500
TZNAME:EST
DTSTART:20251102T060000
END:STANDARD
BEGIN:DAYLIGHT
TZOFFSETFROM:-0500
TZOFFSETTO:-0400
TZNAME:EDT
DTSTART:20260308T070000
END:DAYLIGHT
BEGIN:STANDARD
TZOFFSETFROM:-0400
TZOFFSETTO:-0500
TZNAME:EST
DTSTART:20261101T060000
END:STANDARD
END:VTIMEZONE
BEGIN:VEVENT
DTSTART;TZID=America/New_York:20250306T173000
DTEND;TZID=America/New_York:20250306T220000
DTSTAMP:20260421T041654
CREATED:20250220T002635Z
LAST-MODIFIED:20250220T003531Z
UID:7058-1741282200-1741298400@gojengo.org
SUMMARY:All-In To Fight Cancer
DESCRIPTION:Are you ready to go All-In for a great cause? Join us for a night of poker\, fun and fighting cancer at All-In To Fight Cancer on March 6 in Charlotte. Go Jen Go is proud to be a beneficiary of this incredible event. Buy your tickets to play or watch here. Want to volunteer? Email carrie@gojengo.org to get in the game.
URL:https://gojengo.org/event/all-in-to-fight-cancer/
LOCATION:The Fillmore\, 820 Hamilton Street\, Charlotte\, NC\, 28206
ATTACH;FMTTYPE=image/jpeg:https://gojengo.org/wp-content/uploads/2025/02/All-In-2025-2-FB.jpg
END:VEVENT
END:VCALENDAR