BEGIN:VCALENDAR
VERSION:2.0
PRODID:-//Go Jen Go - ECPv6.15.20//NONSGML v1.0//EN
CALSCALE:GREGORIAN
METHOD:PUBLISH
X-WR-CALNAME:Go Jen Go
X-ORIGINAL-URL:https://gojengo.org
X-WR-CALDESC:Events for Go Jen Go
REFRESH-INTERVAL;VALUE=DURATION:PT1H
X-Robots-Tag:noindex
X-PUBLISHED-TTL:PT1H
BEGIN:VTIMEZONE
TZID:UTC
BEGIN:STANDARD
TZOFFSETFROM:+0000
TZOFFSETTO:+0000
TZNAME:UTC
DTSTART:20230101T000000
END:STANDARD
END:VTIMEZONE
BEGIN:VEVENT
DTSTART;TZID=UTC:20241001T180000
DTEND;TZID=UTC:20241001T200000
DTSTAMP:20260421T094240
CREATED:20240909T225331Z
LAST-MODIFIED:20240909T225720Z
UID:5887-1727805600-1727812800@gojengo.org
SUMMARY:Tipsy Free Tuesday
DESCRIPTION:Join us for a special evening at the Charlotte City Center Marriott on October 1st from 6-8 PM for the Go Jen Go Foundation Fundraiser! This year\, we’re excited to bring you Tipsy Free Tuesday—a non-alcoholic networking event designed to connect and inspire. \nWhat to Expect:Culinary Delights: Experience a cooking demonstration by Chef Andres Prussing\, CEC \, an award-winning leader in the Charlotte food scene. Chef Andres is known for his commitment to the community\, small businesses\, and inclusive menus. He’ll be sharing tips on creating dishes using locally sourced meats\, produce\, fish\, and more. \nNetworking Opportunities: Discover over 10 different networking groups in the city and connect with community members who share your interests.Fun & Entertainment: Capture memories in the Pose It Up photo booth and enjoy a lively evening filled with food\, drinks\, and community spirit. \nTickets: $25 per person until September 17th. \n$40 per person until event day and $50 at the door. \nGet tickets and more information HERE.
URL:https://gojengo.org/event/tipsy-free-tuesday/
LOCATION:Charlotte Marriott City Center\, 100 West Trade St.\, Charlotte\, NC\, 28202
ATTACH;FMTTYPE=image/jpeg:https://gojengo.org/wp-content/uploads/2024/09/Tipsy-Tuesb-1.jpeg
END:VEVENT
BEGIN:VEVENT
DTSTART;TZID=UTC:20240929T130000
DTEND;TZID=UTC:20240929T160000
DTSTAMP:20260421T094240
CREATED:20240723T181602Z
LAST-MODIFIED:20240904T182020Z
UID:4619-1727614800-1727625600@gojengo.org
SUMMARY:Cheers Jen Cheers!
DESCRIPTION:Join us for Cheers Jen Cheers on Sunday\, September 29th at OpenTap! We’ll celebrate our impact and kickoff breast cancer awareness month!  This celebration and party will feature finger foods (or lite bites)\, drinks\, a silent auction\, hope\, and engagement with our mission. \nThis event is critical to the life-changing support we provide to breast cancer patients who are struggling to make ends meet during their treatment. In addition to providing hope\, Go Jen Go provides direct financial relief to patient’s for housing\, utilities\, transportation\, and groceries/necessities. \nOur Mood Williams Camp Scholarship fund provides camp opportunities for our grantees’ children\, while our Operation Spread the Joy Program uplifts families impacted by breast cancer by delivering gifts during the holiday season. \nPurchase your tickets to attend or you can make a donation to support our Patient Assistance program and local breast cancer patients in need. \nSilent Auction items will be announced online in late September. Please note on auction items: Physical items cannot be mailed. Local pickup only. \nPurchase Tickets Here!
URL:https://gojengo.org/event/cheers-jen-cheers/
LOCATION:Open Tap\, 5010 Carmel Ctr Drive\, Charlotte\, NC\, 28226
CATEGORIES:Fundraiser
ATTACH;FMTTYPE=image/jpeg:https://gojengo.org/wp-content/uploads/2024/07/Cheers-Jen-Cheers-2024.jpg
END:VEVENT
BEGIN:VEVENT
DTSTART;TZID=UTC:20240926T173000
DTEND;TZID=UTC:20240926T200000
DTSTAMP:20260421T094240
CREATED:20240827T161833Z
LAST-MODIFIED:20240904T181807Z
UID:5677-1727371800-1727380800@gojengo.org
SUMMARY:Party for a Cause
DESCRIPTION:Join us at The Social Shop as they host their fall fashion event including beverages\, apps\, and fashion show featuring community members and Go Jen Go grantees. Come enjoy shopping at their store and celebrate breast cancer survivors and thrivers. Donations will go to Go Jen Go’s Patient Assistance Program. Shop and Sip begins at 5:30 PM and the Fashion Show begins at 6:30 PM. \nPlease RSVP Here.
URL:https://gojengo.org/event/party-for-a-cause/
LOCATION:The Social Shop\, 4219 Providence Road\, Charlotte\, NC\, 28211
ATTACH;FMTTYPE=image/jpeg:https://gojengo.org/wp-content/uploads/2024/08/Party-for-a-Cuase.jpg
END:VEVENT
END:VCALENDAR