BEGIN:VCALENDAR
VERSION:2.0
PRODID:-//Go Jen Go - ECPv6.15.20//NONSGML v1.0//EN
CALSCALE:GREGORIAN
METHOD:PUBLISH
X-ORIGINAL-URL:https://gojengo.org
X-WR-CALDESC:Events for Go Jen Go
REFRESH-INTERVAL;VALUE=DURATION:PT1H
X-Robots-Tag:noindex
X-PUBLISHED-TTL:PT1H
BEGIN:VTIMEZONE
TZID:America/New_York
BEGIN:DAYLIGHT
TZOFFSETFROM:-0500
TZOFFSETTO:-0400
TZNAME:EDT
DTSTART:20250309T070000
END:DAYLIGHT
BEGIN:STANDARD
TZOFFSETFROM:-0400
TZOFFSETTO:-0500
TZNAME:EST
DTSTART:20251102T060000
END:STANDARD
BEGIN:DAYLIGHT
TZOFFSETFROM:-0500
TZOFFSETTO:-0400
TZNAME:EDT
DTSTART:20260308T070000
END:DAYLIGHT
BEGIN:STANDARD
TZOFFSETFROM:-0400
TZOFFSETTO:-0500
TZNAME:EST
DTSTART:20261101T060000
END:STANDARD
BEGIN:DAYLIGHT
TZOFFSETFROM:-0500
TZOFFSETTO:-0400
TZNAME:EDT
DTSTART:20270314T070000
END:DAYLIGHT
BEGIN:STANDARD
TZOFFSETFROM:-0400
TZOFFSETTO:-0500
TZNAME:EST
DTSTART:20271107T060000
END:STANDARD
END:VTIMEZONE
BEGIN:VEVENT
DTSTART;TZID=America/New_York:20260509T190000
DTEND;TZID=America/New_York:20260509T210000
DTSTAMP:20260421T123912
CREATED:20260409T122311Z
LAST-MODIFIED:20260409T122311Z
UID:9113-1778353200-1778360400@gojengo.org
SUMMARY:Kannapolis Cannon Ballers Breast Cancer Awareness Night
DESCRIPTION:Step up to the plate for a night that hits it out of the park. \nJoin us for an inspiring evening dedicated to raising awareness and support for our breast cancer community. Enjoy a night under the stars with exciting activities\, heartfelt stories\, and a vibrant community coming together for a cause that matters. \nSaturday\, May 9\n7:00PM\nAtrium Health Ballpark\n1 Cannon Baller Way\nKannapolis\, NC 28081 \nGrab your tickets to sit in the Go Jen Go section\, and invite your friends\, family\, caregivers\, and supporters to join you. \nGates open at 6 PM. A portion of every ticket supports Go Jen Go. \nGET TICKETS HERE
URL:https://gojengo.org/event/kannapolis-cannon-ballers-breast-cancer-awareness-night/
LOCATION:Atrium Health Ballpark\, 1 Cannon Baller Way\, Kannapolis\, NC\, 28081
ATTACH;FMTTYPE=image/jpeg:https://gojengo.org/wp-content/uploads/2026/04/Kannapolis-Cannon-Ballers-FB.jpg
END:VEVENT
BEGIN:VEVENT
DTSTART;TZID=America/New_York:20260514T190000
DTEND;TZID=America/New_York:20260514T210000
DTSTAMP:20260421T123912
CREATED:20260420T205643Z
LAST-MODIFIED:20260420T205643Z
UID:9134-1778785200-1778792400@gojengo.org
SUMMARY:Stories That Carry Us: Evening of Cancer\, Courage and Connection
DESCRIPTION:Join us for Story League: Stories that Carry Us at Spur Line Creative at The Union at Station West. This intimate and powerful evening will feature real stories shaped by cancer\, honoring resilience and survival\, love and loss\, and journeys still unfolding. We are honored that some cancer survivors who are part of our 24 family will be among the speakers. \nWhether you have been personally touched by cancer or simply want to support those who have\, your presence matters. All proceeds from the evening will support The Go Jen Go Foundation and 24 Foundation. There is no cost to attend\, but RSVPs are required. \nSpur Line Creative – The Union at Station West\n919 Berryhill Road\nCharlotte\, NC 28208 \nThursday\, May 14\n7-9PM \nRSVP HERE
URL:https://gojengo.org/event/stories-that-carry-us-evening-of-cancer-courage-and-connection/
LOCATION:Spur Line Creative\, 919 Berry Hill Road\, Charlotte\, NC\, 28208
ATTACH;FMTTYPE=image/jpeg:https://gojengo.org/wp-content/uploads/2026/04/Cancer-Story-League-16-x-9.jpg
END:VEVENT
END:VCALENDAR